Workbook

Sheet Virksomhedsoplysninger
A1: Virksomhedsoplysninger
A3: Dato | C3: =TODAY() -> 43966
A5: Firmanavn
A6: Adresse
A8: Postnr. og by
A9: CVR.Nr.
A10: Tlf. (firma)
A11: Mail
A12: Medforsik. Virksomhed. Navn, Cvr.nr.
A16: Bemærkninger på tilbuddet
A20: Bemærkninger der ikke skal på tilbuddet.
A21: VIGTIGT! Accept skal underskrives af kunden uagtet mæglerfuldmagt, pga. risikooplysninger!

Sheet Kriminalitet
A1: Kriminalitetsforsikring inkl. netbank
A3: Tilbudsdato | C3: =Virksomhedsoplysninger!C3 -> 43966 | E3: Medforsikret virksomheder
A4: Firmanavn | C4: =Virksomhedsoplysninger!C5 -> 0 | E4: Navn, Cvr.nr.
A5: Adresse | C5: =Virksomhedsoplysninger!C6 -> 0 | E5: =Virksomhedsoplysninger!C12
A6: Postnr. og by | C6: =Virksomhedsoplysninger!C8 -> 0
A11: Forsikring
A12: Dækningssum: | C12: 1000000
A13: Selvrisiko: | C13: =IF(C12=1000000,25000,IF(C12=5000000,25000,IF(C12=10000000,25000,""))) -> 25000 | D13: Kr. 0,00 for netbankindbrud, jf. punkt 2.3.2
A14: Præmie: | C14: =D14*1.0189228 -> 4075.6912 | D14: =IF(C12=1000000,4000,IF(C12=5000000,9000,IF(C12=10000000,14000,""))) -> 4000
A16: Forudsætninger
A17: Forsikringstager | C17: =C4 -> 0 | D17: Antal ansatte 0-25, omæstning 0-75 mio. kr.
A22: Risikooplysninger
A23: Tilbuddet er betinget af, at der kan svares "ja" til nedenstående. Risikospørgsmål besvares på tilbuddet
A24: Kan der ved et eller flere ikke svares "ja", udfyldes spørgeskema
A25: Virksomhedens årsregnskab bliver revideret af en ekstern revisor
A26: Det bekræftes, at der ikke er kendskab til forhold, der med rimelig sansynlighed kan
A27: medføre, at der kan blive rejst krav mod denne forsikring
A28: Der er etableret godkendelsesregler for udbetalinger
A29: Betalinger/overførsler over 50.000 kr foretages af to i foreningen
A30: IT-Systemerne er beskyttede via firewalls og antivirusprogrammer og/eller lignende foranstaltninger
A31: Det bekræftes, at forsikringstager ikke tidligere har fået opsagt, er blevet nægtet at forny eller
A32: fået indskrænket dækningen på en kriminalitetsforsikring
A33: Det bekræftes, at forsikringstager ikke har kendskab til aktuelle forhold, der kan have
A34: forbindelse med kriminelle forhold omfattet af forsikringen
A44: 1000000
A45: 5000000
A46: 10000000

Sheet TIlbud
A1: Tilbud -Kriminalitet inkl. netbank
A3: Tilbudsdato | D3: =Virksomhedsoplysninger!C3 -> 43966 | G3: Medforsikret virksomheder
A4: Firmanavn | D4: =Virksomhedsoplysninger!C5 -> 0 | G4: Navn, cvr.nr
A5: Adresse | D5: =Virksomhedsoplysninger!C6 -> 0 | G5: =Virksomhedsoplysninger!C12
A6: Postnr. og by | D6: =Virksomhedsoplysninger!C8 -> 0
A7: Tlf. | D7: =Virksomhedsoplysninger!C10 -> 0
A8: Email (kontaktperson) | D8: =Virksomhedsoplysninger!C11 -> 0
A9: CVR. nr. | D9: =Virksomhedsoplysninger!C9 -> 0
A11: Dækningssum | I11: =Kriminalitet!C12 -> 1000000
A12: Antal ansatte | I12: 0-25
A13: Omsætning: | I13: 0-75 mio. kr.
A15: Årlig præmie indeks 2020 (Eksl afgift 1,1% af præmien, og gebyr for policeudstedelse og fornyelse) | I15: =Kriminalitet!C14 -> 4075.6912 | K15: Ved accept af tilbud skal tilbuddet underskrives af kunden!
A17: Selvrisiko | I17: =Kriminalitet!C13 -> 25000
I18: 0 kr. ved netbankindbrud
A50: Forudsætninger for tegning af forsikringen
A60: Tilbuddet er betinget af, at der kan svares "ja" til nedenstående.
A61: Kan der ved et eller flere ikke svares "ja", kontaktes HDI.
A62: Virksomhedens årsregnskab bliver revideret af en ekstern revisor
A63: Det bekræftes, at der ikke er kendskab til forhold, der med rimelig sansynlighed kan
A64: medføre, at der kan blive rejst krav mod denne forsikring
A65: Der er etableret godkendelsesregler for udbetalinger
A66: Betalinger/overførsler over 50.000 kr foretages af to i foreningen
A67: IT-Systemerne er beskyttede via firewalls og antivirusprogrammer og/eller lignende foranstaltninger
A68: Det bekræftes, at forsikringstager ikke tidligere har fået opsagt, er blevet nægtet at forny eller
A69: fået indskrænket dækningen på en kriminalitetsforsikring
A70: Det bekræftes, at forsikringstager ikke har kendskab til aktuelle forhold, der kan have
... A135: Bemærkninger til tilbuddet:
A136: =Virksomhedsoplysninger!A17
A140: Accept af tilbud
A141: Hovedforfald 1. Januar
A142: Ikraft dato:
A146: Dato og underskrift

Sheet Betingelser
