Workbook
Name spørgeskema1: #REF!
Name spørgeskema2: #REF!

Sheet Virksomhedsoplysninger
A1: Virksomhedsoplysninger
A3: Dato | C3: =TODAY() -> 43966
A5: Firmanavn
A6: Adresse
A8: Postnr. og by
A9: CVR.Nr.
A10: Tlf(frima)
A11: Mail
A14: Bemærkninger på tilbuddet
A21: Bemærkninger der ikke skal på tilbuddet

Sheet Kollektiv ulykke
A1: Kollektiv ulykke
A3: Tilbudsdato | D3: =Virksomhedsoplysninger!C3 -> 43966
A4: Firmanavn | D4: =Virksomhedsoplysninger!C5 -> 0
A5: Adresse | D5: =Virksomhedsoplysninger!C6 -> 0
A6: Postnr. og by | D6: =Virksomhedsoplysninger!C8 -> 0
A7: Tlf. | D7: =Virksomhedsoplysninger!C10 -> 0
A8: Email (kontaktperson) | D8: =Virksomhedsoplysninger!C11 -> 0
A9: CVR. nr. | D9: =Virksomhedsoplysninger!C9 -> 0
A10: Personer
A12: Risikogrupper: (KUN HELE ANTAL ANSATTE) | K12: Antal
A13: 1. Kontor, Praktikant, Revisor, Advokat o.lign. | K13: 0 | L13: =SUM(K13+K14+K15+K17) -> 0
A14: 2. Øvrige | K14: 0
A15: 3. Mekaniker, køkken ass, Elektriker, Murer, Tømrer, VVS, maskin arb., kok o.lign. | K15: 0
A16: 4. Brolægger, Fisker, Vicevært, Tagdækker, fabriksarbejder, Vagt Brandmand, Stilladsmedarbejder, Vinduespudser, Vindmøllemontør, savværk o.lign.
K17: 0 | L17: 1 | M17: =VLOOKUP(D21,Risikogrupper!H15:K35,4) -> 88.25 | N17: =K13*M17 -> 0
A18: Grunddækning | L18: 2 | M18: =VLOOKUP(D21,Risikogrupper!M15:P35,4) -> 163 | N18: =K14*M18 -> 0
F19: 1 | G19: 2 | H19: 3 | I19: 4 | L19: 3 | M19: =VLOOKUP(D21,Risikogrupper!R15:U35,4) -> 182.5 | N19: =K15*M19 -> 0
A20: Dødsfald | D20: 500000 | F20: =VLOOKUP('Kollektiv ulykke'!D20,Risikogrupper!H15:I35,2) -> 174.9 | G20: =VLOOKUP('Kollektiv ulykke'!D20,Risikogrupper!M15:N35,2) -> 320.35 | H20: =VLOOKUP('Kollektiv ulykke'!D20,Risikogrupper!R15:S35,2) -> 355 | I20: =VLOOKUP('Kollektiv ulykke'!D20,Risikogrupper!W15:X35,2) -> 500 | L20: 4 | M20: =VLOOKUP(D21,Risikogrupper!W15:Z35,4) -> 247.5 | N20: =K17*M20 -> 0
A21: Invaliditet fra 5% mén | D21: 500000 | F21: =F20*K13 -> 0 | G21: =K14*G20 -> 0 | H21: =H20*K15 -> 0 | I21: =I20*K17 -> 0 | N21: =SUM(N17:N20) -> 0
F22: =VLOOKUP('Kollektiv ulykke'!D21,Risikogrupper!H16:J35,3) -> 192.5 | G22: =VLOOKUP('Kollektiv ulykke'!D21,Risikogrupper!M15:O35,3) -> 355 | H22: =VLOOKUP('Kollektiv ulykke'!D21,Risikogrupper!R15:T35,3) -> 395 | I22: =VLOOKUP('Kollektiv ulykke'!D21,Risikogrupper!W15:Y35,3) -> 535
A23: Dobbelterstatning fra 30% mén | D23: Ja | E23: =D24*C11 -> 0 | F23: =F22*K13 -> 0 | G23: =K14*G22 -> 0 | H23: =H22*K15 -> 0 | I23: =I22*K17 -> 0
D24: =IF(C13="Kontor, praktikant, revisor, advokat, o.lign.",Risikogrupper!I41,IF(C13="Konsulent, butik, frisør, SOSU, tandlæge, læge, o.lign.",Risikogrupper!N41,IF(C13="Mekaniker, køkken ass., elektriker, murer, tømrer, VVS, maskin arb., kok, o.lign.",Risikogrupper!S41,IF(C13="Brolægger, fisker, vicevært, tagdækker, fabriksarbejder, vagt, o.lign.",Risikogrupper!X41,IF(C13="Brandmand, stilladsmedarbejder, vinduespudser, vindmøllemontør, savværk, o.lign.",Risikogrupper!X41))))) -> FALSE | E24: =IF(D23="Ja",E23+F22,IF(D23="Nej",F22,)) -> 192.5 | F24: =F21+F23 -> 0 | G24: =G21+G23 -> 0 | H24: =H21+H23 -> 0 | I24: =I21+I23 -> 0 | J24: =SUM(F24:I24) -> 0 | K24: =IF(D23="Ja",J24+N21,IF(D23="Nej",J24,)) -> 0
A25: Tilvalgsdækninger
A27: Tandskade | D27: Nej | F27: =L13*24 -> 0 | G27: =IF(D27="Ja",F27+K24,IF(D27="Nej",K24,)) -> 0 | H27: =IF(D27="Ja",1,0) -> 0
A28: Briller og kontaktlinser | D28: Nej | F28: =L13*23.53 -> 0 | G28: =IF(D28="Ja",F28+G27,IF(D28="Nej",G27,)) -> 0 | H28: =IF(D28="Ja",1,0) -> 0
A29: Behandlingsudgifter | D29: Nej | F29: =L13*73 -> 0 | G29: =IF(D29="Ja",F29+G28,IF(D29="Nej",G28,)) -> 0 | H29: =IF(D29="Ja",1,0) -> 0
A30: Tyggeskade | D30: Nej | F30: =L13*62.5 -> 0 | G30: =IF(D30="Ja",F30+G29,IF(D30="Nej",G29,)) -> 0 | H30: =IF(D30="Ja",1,0) -> 0
H31: =SUM(H27:H30) -> 0
A32: Dækning
A33: Dækning | D33: Heltid
G34: =IF(D33="Kun arbejdstid",G30/2,G30) -> 0
A35: Samlet præmie: | H35: =G34 -> 0
A37: Risikospørgsmål
A38: Har virksomheden på nuværende tidspunkt en kollektiv ulykkesforsikring, hvor der har været skader inden for de sidste 3 år?
A40: Hvis Ja - Hvor mange skader har der været?
A41: Hvis Ja - Hvor meget er der udbetalt i erstatning i de sidste 3 år?
A43: Er virksomhedens ansatte beskæftiget inden for følgende områder:
A44: Offshore, pilot, flypersonale, professionelsport, militær, politi, hvemmeværnet etc.?
A46: Har nogen forsikringsgiver nægtet at give tilbud, opsagt eller afvist at forny en
A47: kollektiv ulykkesforsikring for virksomheden/koncernen?
A49: Er forsikringsssøgende, vidende om nogen igangværende ulykke skader som ikke er blevet anmeldt?
A51: Heltidsulykkesforsikring Forsikringen dækker hele døgnet samt alle ugens 7 dage. Præmien virksomheden skal betale, afhænger af antallet af ansatte, deres beskæftigelse, dækningssummer og tilvalg. Som ansat er alle sikret af den lovpligtige arbejdsskadeforsikring, men ønsker virksomheden, at sikre deres ansatte med en supplerende ulykkesforsikring, bør virksomheden tegne en ulykkesforsikring som dækker i arbejdstiden. De kan ligeledes med fordel tegne en heltidsforsikring, hvis virksomheden har mange ansatte med skiftende arbejdspladser, konsulenter eller personale med skiftende arbejdstider og rejsedage og hvor det ofte kan være svært at skelne mellem arbejdstid og fritid.
A60: Arbejdstidsulykkesforsikring Denne dækker kun i arbejdstiden, altså ulykker som også er omfattet af arbejdsskadeforsikringen. Præmien som virksomheden skal betale, afhænger af antallet af ansatte og deres beskæftigelse. En arbejdstidsulykkesforsikring kan tegnes for alle ansatte, uanset antallet af arbejdstimer pr. uge.
A65: Tilvalgsdækninger
... A93: Sum: efter regning

Sheet Ark1
A1: Beskrivelser af tilvalgsdækninger
Q8: Kolonne1 | T8: Kolonne1
Q9: gfgd | T9: gfgdgdfgdfgfdgdfg
T10: fdgdfgdfgdfgdfgdfg
T11: fgfdgdfgdfgdf
T12: fdgdfgdfgdfgdfgdfg
T13: gfdgdfgfdgdfg
T14: fdgdfgdfgdfgdfgdfg

Sheet Risikogrupper
A1: Risikogrupper
A2: 1 | B2: Kontor, praktikant, revisor, advokat, o.lign. | I2: =I41 -> 88.25 | K2: =VLOOKUP(K3,B2:I6,8) -> #N/A
A3: 2 | B3: Konsulent, butik, frisør, SOSU, tandlæge, læge, o.lign. | I3: =N41 -> 163 | K3: ='Kollektiv ulykke'!C13 -> 0
A4: 3 | B4: Mekaniker, køkken ass., elektriker, murer, tømrer, VVS, maskin arb., kok, o.lign. | I4: =S41 -> 182.5
A5: 4 | B5: Brolægger, fisker, vicevært, tagdækker, fabriksarbejder, vagt, o.lign. | I5: =X39 -> 1035
A6: 5 | B6: Brandmand, stilladsmedarbejder, vinduespudser, vindmøllemontør, savværk, o.lign. | I6: =X39 -> 1035
A8: Præmier | B8: 1 | C8: 2 | D8: 3 | E8: 4 | F8: Sum
A9: Dødsfald | B9: 34.98 | C9: 64.07 | D9: 71 | E9: 100
A10: invaliditet | B10: 38.5 | C10: 71 | D10: 79 | E10: 107
A11: Dobbelterstatning | B11: 17.65 | C11: 32.6 | D11: 36.5 | E11: 49.5
A12: Tandskade | B12: 24 | C12: 24 | D12: 24 | E12: 24
A13: Briller og kontaktlinser | B13: 23.53 | C13: 23.53 | D13: 20 | E13: 20 | G13: Kat 1. | L13: Kat 2. | Q13: Kat 3. | V13: Kat 4.
H14: Vælg sum | I14: 0 | J14: 0 | K14: 0 | M14: Vælg sum | N14: 0 | O14: 0 | P14: 0 | R14: Vælg sum | S14: 0 | T14: 0 | U14: 0 | W14: Vælg sum | X14: 0 | Y14: 0 | Z14: 0
H15: 0 | I15: 0 | J15: 0 | K15: 0 | M15: 0 | N15: 0 | O15: 0 | P15: 0 | R15: 0 | S15: 0 | T15: 0 | U15: 0 | W15: 0 | X15: 0 | Y15: 0 | Z15: 0
A16: Ja | G16: 1 | H16: 100000 | I16: =G16*34.98 -> 34.98 | J16: =G16*38.5 -> 38.5 | K16: =G16*17.65 -> 17.65 | L16: 1 | M16: 100000 | N16: =L16*64.07 -> 64.07 | O16: =L16*71 -> 71 | P16: =L16*32.6 -> 32.6 | Q16: 1 | R16: 100000 | S16: =Q16*71 -> 71 | T16: =Q16*79 -> 79 | U16: =Q16*36.5 -> 36.5 | V16: 1 | W16: 100000 | X16: =V16*100 -> 100 | Y16: =V16*107 -> 107 | Z16: =V16*49.5 -> 49.5
A17: Nej | G17: 2 | H17: 200000 | I17: =G17*34.98 -> 69.96 | J17: =G17*38.5 -> 77 | K17: =G17*17.65 -> 35.3 | L17: 2 | M17: 200000 | N17: =L17*64.07 -> 128.14 | O17: =L17*71 -> 142 | P17: =L17*32.6 -> 65.2 | Q17: 2 | R17: 200000 | S17: =Q17*71 -> 142 | T17: =Q17*79 -> 158 | U17: =Q17*36.5 -> 73 | V17: 2 | W17: 200000 | X17: =V17*100 -> 200 | Y17: =V17*107 -> 214 | Z17: =V17*49.5 -> 99
G18: 3 | H18: 300000 | I18: =G18*34.98 -> 104.94 | J18: =G18*38.5 -> 115.5 | K18: =G18*17.65 -> 52.95 | L18: 3 | M18: 300000 | N18: =L18*64.07 -> 192.21 | O18: =L18*71 -> 213 | P18: =L18*32.6 -> 97.8 | Q18: 3 | R18: 300000 | S18: =Q18*71 -> 213 | T18: =Q18*79 -> 237 | U18: =Q18*36.5 -> 109.5 | V18: 3 | W18: 300000 | X18: =V18*100 -> 300 | Y18: =V18*107 -> 321 | Z18: =V18*49.5 -> 148.5
G19: 4 | H19: 400000 | I19: =G19*34.98 -> 139.92 | J19: =G19*38.5 -> 154 | K19: =G19*17.65 -> 70.6 | L19: 4 | M19: 400000 | N19: =L19*64.07 -> 256.28 | O19: =L19*71 -> 284 | P19: =L19*32.6 -> 130.4 | Q19: 4 | R19: 400000 | S19: =Q19*71 -> 284 | T19: =Q19*79 -> 316 | U19: =Q19*36.5 -> 146 | V19: 4 | W19: 400000 | X19: =V19*100 -> 400 | Y19: =V19*107 -> 428 | Z19: =V19*49.5 -> 198
G20: 5 | H20: 500000 | I20: =G20*34.98 -> 174.9 | J20: =G20*38.5 -> 192.5 | K20: =G20*17.65 -> 88.25 | L20: 5 | M20: 500000 | N20: =L20*64.07 -> 320.35 | O20: =L20*71 -> 355 | P20: =L20*32.6 -> 163 | Q20: 5 | R20: 500000 | S20: =Q20*71 -> 355 | T20: =Q20*79 -> 395 | U20: =Q20*36.5 -> 182.5 | V20: 5 | W20: 500000 | X20: =V20*100 -> 500 | Y20: =V20*107 -> 535 | Z20: =V20*49.5 -> 247.5
G21: 6 | H21: 600000 | I21: =G21*34.98 -> 209.88 | J21: =G21*38.5 -> 231 | K21: =G21*17.65 -> 105.9 | L21: 6 | M21: 600000 | N21: =L21*64.07 -> 384.42 | O21: =L21*71 -> 426 | P21: =L21*32.6 -> 195.6 | Q21: 6 | R21: 600000 | S21: =Q21*71 -> 426 | T21: =Q21*79 -> 474 | U21: =Q21*36.5 -> 219 | V21: 6 | W21: 600000 | X21: =V21*100 -> 600 | Y21: =V21*107 -> 642 | Z21: =V21*49.5 -> 297
G22: 7 | H22: 700000 | I22: =G22*34.98 -> 244.86 | J22: =G22*38.5 -> 269.5 | K22: =G22*17.65 -> 123.55 | L22: 7 | M22: 700000 | N22: =L22*64.07 -> 448.49 | O22: =L22*71 -> 497 | P22: =L22*32.6 -> 228.2 | Q22: 7 | R22: 700000 | S22: =Q22*71 -> 497 | T22: =Q22*79 -> 553 | U22: =Q22*36.5 -> 255.5 | V22: 7 | W22: 700000 | X22: =V22*100 -> 700 | Y22: =V22*107 -> 749 | Z22: =V22*49.5 -> 346.5
A23: Kun arbejdstid | G23: 8 | H23: 800000 | I23: =G23*34.98 -> 279.84 | J23: =G23*38.5 -> 308 | K23: =G23*17.65 -> 141.2 | L23: 8 | M23: 800000 | N23: =L23*64.07 -> 512.56 | O23: =L23*71 -> 568 | P23: =L23*32.6 -> 260.8 | Q23: 8 | R23: 800000 | S23: =Q23*71 -> 568 | T23: =Q23*79 -> 632 | U23: =Q23*36.5 -> 292 | V23: 8 | W23: 800000 | X23: =V23*100 -> 800 | Y23: =V23*107 -> 856 | Z23: =V23*49.5 -> 396
A24: Heltid | G24: 9 | H24: 900000 | I24: =G24*34.98 -> 314.82 | J24: =G24*38.5 -> 346.5 | K24: =G24*17.65 -> 158.85 | L24: 9 | M24: 900000 | N24: =L24*64.07 -> 576.63 | O24: =L24*71 -> 639 | P24: =L24*32.6 -> 293.4 | Q24: 9 | R24: 900000 | S24: =Q24*71 -> 639 | T24: =Q24*79 -> 711 | U24: =Q24*36.5 -> 328.5 | V24: 9 | W24: 900000 | X24: =V24*100 -> 900 | Y24: =V24*107 -> 963 | Z24: =V24*49.5 -> 445.5
G25: 10 | H25: 1000000 | I25: =G25*34.98 -> 349.8 | J25: =G25*38.5 -> 385 | K25: =G25*17.65 -> 176.5 | L25: 10 | M25: 1000000 | N25: =L25*64.07 -> 640.7 | O25: =L25*71 -> 710 | P25: =L25*32.6 -> 326 | Q25: 10 | R25: 1000000 | S25: =Q25*71 -> 710 | T25: =Q25*79 -> 790 | U25: =Q25*36.5 -> 365 | V25: 10 | W25: 1000000 | X25: =V25*100 -> 1000 | Y25: =V25*107 -> 1070 | Z25: =V25*49.5 -> 495
G26: 11 | H26: 1100000 | I26: =G26*34.98 -> 384.78 | J26: =G26*38.5 -> 423.5 | K26: =G26*17.65 -> 194.15 | L26: 11 | M26: 1100000 | N26: =L26*64.07 -> 704.77 | O26: =L26*71 -> 781 | P26: =L26*32.6 -> 358.6 | Q26: 11 | R26: 1100000 | S26: =Q26*71 -> 781 | T26: =Q26*79 -> 869 | U26: =Q26*36.5 -> 401.5 | V26: 11 | W26: 1100000 | X26: =V26*100 -> 1100 | Y26: =V26*107 -> 1177 | Z26: =V26*49.5 -> 544.5
G27: 12 | H27: 1200000 | I27: =G27*34.98 -> 419.76 | J27: =G27*38.5 -> 462 | K27: =G27*17.65 -> 211.8 | L27: 12 | M27: 1200000 | N27: =L27*64.07 -> 768.84 | O27: =L27*71 -> 852 | P27: =L27*32.6 -> 391.2 | Q27: 12 | R27: 1200000 | S27: =Q27*71 -> 852 | T27: =Q27*79 -> 948 | U27: =Q27*36.5 -> 438 | V27: 12 | W27: 1200000 | X27: =V27*100 -> 1200 | Y27: =V27*107 -> 1284 | Z27: =V27*49.5 -> 594
G28: 13 | H28: 1300000 | I28: =G28*34.98 -> 454.74 | J28: =G28*38.5 -> 500.5 | K28: =G28*17.65 -> 229.45 | L28: 13 | M28: 1300000 | N28: =L28*64.07 -> 832.91 | O28: =L28*71 -> 923 | P28: =L28*32.6 -> 423.8 | Q28: 13 | R28: 1300000 | S28: =Q28*71 -> 923 | T28: =Q28*79 -> 1027 | U28: =Q28*36.5 -> 474.5 | V28: 13 | W28: 1300000 | X28: =V28*100 -> 1300 | Y28: =V28*107 -> 1391 | Z28: =V28*49.5 -> 643.5
G29: 14 | H29: 1400000 | I29: =G29*34.98 -> 489.72 | J29: =G29*38.5 -> 539 | K29: =G29*17.65 -> 247.1 | L29: 14 | M29: 1400000 | N29: =L29*64.07 -> 896.98 | O29: =L29*71 -> 994 | P29: =L29*32.6 -> 456.4 | Q29: 14 | R29: 1400000 | S29: =Q29*71 -> 994 | T29: =Q29*79 -> 1106 | U29: =Q29*36.5 -> 511 | V29: 14 | W29: 1400000 | X29: =V29*100 -> 1400 | Y29: =V29*107 -> 1498 | Z29: =V29*49.5 -> 693
G30: 15 | H30: 1500000 | I30: =G30*34.98 -> 524.7 | J30: =G30*38.5 -> 577.5 | K30: =G30*17.65 -> 264.75 | L30: 15 | M30: 1500000 | N30: =L30*64.07 -> 961.05 | O30: =L30*71 -> 1065 | P30: =L30*32.6 -> 489 | Q30: 15 | R30: 1500000 | S30: =Q30*71 -> 1065 | T30: =Q30*79 -> 1185 | U30: =Q30*36.5 -> 547.5 | V30: 15 | W30: 1500000 | X30: =V30*100 -> 1500 | Y30: =V30*107 -> 1605 | Z30: =V30*49.5 -> 742.5
G31: 16 | H31: 1600000 | I31: =G31*34.98 -> 559.68 | J31: =G31*38.5 -> 616 | K31: =G31*17.65 -> 282.4 | L31: 16 | M31: 1600000 | N31: =L31*64.07 -> 1025.12 | O31: =L31*71 -> 1136 | P31: =L31*32.6 -> 521.6 | Q31: 16 | R31: 1600000 | S31: =Q31*71 -> 1136 | T31: =Q31*79 -> 1264 | U31: =Q31*36.5 -> 584 | V31: 16 | W31: 1600000 | X31: =V31*100 -> 1600 | Y31: =V31*107 -> 1712 | Z31: =V31*49.5 -> 792
G32: 17 | H32: 1700000 | I32: =G32*34.98 -> 594.66 | J32: =G32*38.5 -> 654.5 | K32: =G32*17.65 -> 300.05 | L32: 17 | M32: 1700000 | N32: =L32*64.07 -> 1089.19 | O32: =L32*71 -> 1207 | P32: =L32*32.6 -> 554.2 | Q32: 17 | R32: 1700000 | S32: =Q32*71 -> 1207 | T32: =Q32*79 -> 1343 | U32: =Q32*36.5 -> 620.5 | V32: 17 | W32: 1700000 | X32: =V32*100 -> 1700 | Y32: =V32*107 -> 1819 | Z32: =V32*49.5 -> 841.5
G33: 18 | H33: 1800000 | I33: =G33*34.98 -> 629.64 | J33: =G33*38.5 -> 693 | K33: =G33*17.65 -> 317.7 | L33: 18 | M33: 1800000 | N33: =L33*64.07 -> 1153.26 | O33: =L33*71 -> 1278 | P33: =L33*32.6 -> 586.8 | Q33: 18 | R33: 1800000 | S33: =Q33*71 -> 1278 | T33: =Q33*79 -> 1422 | U33: =Q33*36.5 -> 657 | V33: 18 | W33: 1800000 | X33: =V33*100 -> 1800 | Y33: =V33*107 -> 1926 | Z33: =V33*49.5 -> 891
G34: 19 | H34: 1900000 | I34: =G34*34.98 -> 664.62 | J34: =G34*38.5 -> 731.5 | K34: =G34*17.65 -> 335.35 | L34: 19 | M34: 1900000 | N34: =L34*64.07 -> 1217.33 | O34: =L34*71 -> 1349 | P34: =L34*32.6 -> 619.4 | Q34: 19 | R34: 1900000 | S34: =Q34*71 -> 1349 | T34: =Q34*79 -> 1501 | U34: =Q34*36.5 -> 693.5 | V34: 19 | W34: 1900000 | X34: =V34*100 -> 1900 | Y34: =V34*107 -> 2033 | Z34: =V34*49.5 -> 940.5
G35: 20 | H35: 2000000 | I35: =G35*34.98 -> 699.6 | J35: =G35*38.5 -> 770 | K35: =G35*17.65 -> 353 | L35: 20 | M35: 2000000 | N35: =L35*64.07 -> 1281.4 | O35: =L35*71 -> 1420 | P35: =L35*32.6 -> 652 | Q35: 20 | R35: 2000000 | S35: =Q35*71 -> 1420 | T35: =Q35*79 -> 1580 | U35: =Q35*36.5 -> 730 | V35: 20 | W35: 2000000 | X35: =V35*100 -> 2000 | Y35: =V35*107 -> 2140 | Z35: =V35*49.5 -> 990
G37: ='Kollektiv ulykke'!D20 -> 500000 | I37: =VLOOKUP(G37,H14:I35,2) -> 174.9 | L37: ='Kollektiv ulykke'!D20 -> 500000 | N37: =VLOOKUP(L37,M14:N35,2) -> 320.35 | Q37: ='Kollektiv ulykke'!D20 -> 500000 | S37: =VLOOKUP(Q37,R14:S35,2) -> 355 | V37: ='Kollektiv ulykke'!D20 -> 500000 | X37: =VLOOKUP(V37,W14:X35,2) -> 500
G38: ='Kollektiv ulykke'!D21 -> 500000 | I38: =VLOOKUP(G38,H14:J35,3) -> 192.5 | L38: ='Kollektiv ulykke'!D21 -> 500000 | N38: =VLOOKUP(L38,M14:O35,3) -> 355 | Q38: ='Kollektiv ulykke'!D21 -> 500000 | S38: =VLOOKUP(Q38,R14:T35,3) -> 395 | V38: ='Kollektiv ulykke'!D21 -> 500000 | X38: =VLOOKUP(V38,W14:Y35,3) -> 535
G39: Sum | I39: =(I37+I38) -> 367.4 | N39: =(N37+N38) -> 675.35 | S39: =(S37+S38) -> 750 | X39: =(X37+X38) -> 1035
G41: Dobbelterstatning | I41: =VLOOKUP(I38,J15:K35,2) -> 88.25 | N41: =VLOOKUP(N38,O15:P35,2) -> 163 | S41: =VLOOKUP(S38,T15:U35,2) -> 182.5 | X41: =VLOOKUP(X38,Y15:Z35,2) -> 247.5

Sheet TIlbud
A1: Tilbud - Kollektiv ulykke
A3: Tilbudsdato | D3: =Virksomhedsoplysninger!C3 -> 43966
A4: Firmanavn | D4: =Virksomhedsoplysninger!C5 -> 0
A5: Adresse | D5: =Virksomhedsoplysninger!C6 -> 0
A6: Postnr. og by | D6: =Virksomhedsoplysninger!C8 -> 0
A7: Tlf. | D7: ='Kollektiv ulykke'!D7:K7 -> 0
A8: Email (kontaktperson) | D8: ='Kollektiv ulykke'!D8:K8 -> 0
A9: CVR. nr. | D9: ='Kollektiv ulykke'!D9:K9 -> 0
A11: Samlet antal ansatte | I11: ='Kollektiv ulykke'!L13 -> 0
A12: Risikogrupper
A13: ='Kollektiv ulykke'!A13:J13 -> 1. Kontor, Praktikant, Revisor, Advokat o.lign. | I13: ='Kollektiv ulykke'!K13 -> 0
A14: ='Kollektiv ulykke'!A14:J14 -> 2. Øvrige | I14: ='Kollektiv ulykke'!K14 -> 0
A15: ='Kollektiv ulykke'!A15:J15 -> 3. Mekaniker, køkken ass, Elektriker, Murer, Tømrer, VVS, maskin arb., kok o.lign. | I15: ='Kollektiv ulykke'!K15 -> 0
A16: ='Kollektiv ulykke'!A16:J16 -> 4. Brolægger, Fisker, Vicevært, Tagdækker, fabriksarbejder, Vagt Brandmand, Stilladsmedarbejder, Vinduespudser, Vindmøllemontør, savværk o.lign.
I17: ='Kollektiv ulykke'!K17 -> 0
A21: Dødsfald sum | G21: =IF('Kollektiv ulykke'!D20="Vælg sum","Ikke valgt",'Kollektiv ulykke'!D20) -> 500000
A22: Invaliditet fra 5% varigt mén sum | G22: =IF('Kollektiv ulykke'!D21="Vælg sum","Ikke valgt",'Kollektiv ulykke'!D21) -> 500000
A24: Farlig sport | I24: Ja
A25: Dobbelterstaning fra 30% mén | I25: ='Kollektiv ulykke'!D23 -> Ja
A27: Dækning | I27: ='Kollektiv ulykke'!D33 -> Heltid
A29: Årlig præmie indeks 2020 (excl. 1,1% i skadesafgift) | I29: ='Kollektiv ulykke'!H35 -> 0
A30: Ved max sum på 500.000 kr ved død og/eller invaliditet skal medarbejderen ikke beskattes.
A31: Tilvalgsdækninger
A32: Tandskade
A33: I det omfang forsikrede ikke har ret til godtgørelse af udgifterne fra anden side, eksempelvis den offentlige sygesikring, sygeforsikring eller arbejdsskadeforsikring, dækkes rimelige og nødvendige udgifter til tandbehandling af en tandskade, der er en direkte følge af et ulykkestilfælde. Dækningen omfatter også proteser, der beskadiges i de naturlige tænders sted, når ulykkestilfældet i øvrigt har medført legemsbeskadigelse, der er dokumenteret ved lægeattest.
A38: Sum: Efter regning | I38: =IF('Kollektiv ulykke'!D27="Ja","Tilvalgt","Ikke tilvalgt") -> Ikke tilvalgt
A39: Briller og kontaktlinser
A40: I det omfang, forsikrede ikke har ret til godtgørelse fra anden side, dækkes skade på briller eller kontaktlinser, der sker som følge af et ulykkestilfælde, der medfører legemsbeskadigelse. Det er en forudsætning for dækningen af briller, at de var placeret på forsikredes næse på skadetidspunktet. Ligeledes er det en forudsætning for dækning af kontaktlinser, at disse var placeret på forsikredes øjne på skadetidspunktet.
A45: Sum: 10.000 kr. | I45: =IF('Kollektiv ulykke'!D28="Ja","Tilvalgt","Ikke tilvalgt") -> Ikke tilvalgt
A46: Behandlingsudgifter
A47: I det omfang forsikrede ikke har ret til godtgørelse af udgifterne fra anden side, fx den offentlige sygesikring, sygeforsikring eller arbejdsskadeforsikring dækkes rimelige og nødvendige udgifter til: a. Lægeordinerede behandlinger ved fysioterapeut og/eller behandlinger ved kiropraktor. b. Behandling ved autoriseret akupunktør og/eller zoneterapeut. Behandlingsforløbet skal være sammenhængende i op til 12 måneder fra skadedatoen. Behandlingerne skal være nødvendiggjort og en direkte følge af et ulykkestilfælde.
A53: Sum: Efter regning | I53: =IF('Kollektiv ulykke'!D29="Ja","Tilvalgt","Ikke tilvalgt") -> Ikke tilvalgt
A54: Tyggeskade
A55: Ved tyggeskade forstås en tandskade, forårsaget af en uventet fremmed hård genstand i fødevarer.
A56: Sum: efter regning | I56: =IF('Kollektiv ulykke'!D30="Ja","Tilvalgt","Ikke tilvalgt") -> Ikke tilvalgt
A61: Risikooplysninger
A62: Har virksomheden på nuværende tidspunkt en kollektiv ulykkesforsikring, hvor der har været skader inden for de sidste 3 år? | U62: FALSE
I63: =IF(U63=TRUE,"Ja","Nej") -> Nej | U63: FALSE
A64: Hvis Ja - Hvor mange skader har der været? | I64: =IF('Kollektiv ulykke'!I40>0,'Kollektiv ulykke'!I40," ")
A65: Hvis Ja - Hvor meget er der udbetalt i erstatning i de sidste 3 år? | I65: =IF('Kollektiv ulykke'!I41>0,'Kollektiv ulykke'!I41," ")
A67: Er virksomhedens ansatte beskæftiget inden for følgende områder?:
A68: Offshore, pilot, flypersonale, professionelsport, militær, politi, hvemmeværnet etc. | I68: =IF(U68=TRUE,"Ja","Nej") -> Nej | U68: FALSE
A70: Har nogen forsikringsgiver nægtet at give tilbud, opsagt eller afvist at forny en
A71: kollektiv ulykkesforsikring for virksomheden/koncernen? | I71: =IF(U71=TRUE,"Ja","Nej") -> Nej | U71: FALSE
A73: Er forsikringsssøgende, vidende om nogen igangværende ulykke skader som ikke er blevet anmeldt? | U73: FALSE
I74: =IF(U73=TRUE,"Ja","Nej") -> Nej
A75: Hvis der svares ja til et af ovenstående spørgsmål, skal den godkendes af forsikringsselskabet inden den kan træde i kraft.
A77: Om forsikringen
A78: =IF(I27="Heltid",'Kollektiv ulykke'!A51,IF(TIlbud!I27="Kun arbejdstid",'Kollektiv ulykke'!A60,)) -> Heltidsulykkesforsikring Forsikringen dækker hele døgnet samt alle ugens 7 dage. Præmien virksomheden skal betale, afhænger af antallet af ansatte, deres beskæftigelse, dækningssummer og tilvalg. Som ansat er alle sikret af den lovpligtige arbejdsskadeforsikring, men ønsker virksomheden, at sikre deres ansatte med en supplerende ulykkesforsikring, bør virksomheden tegne en ulykkesforsikring som dækker i arbejdstiden. De kan ligeledes med fordel tegne en heltidsforsikring, hvis virksomheden har mange ansatte med skiftende arbejdspladser, konsulenter eller personale med skiftende arbejdstider og rejsedage og hvor det ofte kan være svært at skelne mellem arbejdstid og fritid.
A88: Opsigelse af nuværende forsikring
A89: Skal Din Forsikringsagent opsige nuværende forsikringer?
A90: Nuværende selskab
A91: Police nr.
A92: Hovedforfald
A93: Evt. bemærkninger
A94: Tilbuddet er gældende i en måned fra tilbudsdato, og er afgivet i index 2019 priser.
A95: =Virksomhedsoplysninger!A15
A98: Accept af tilbud:
A99: Undertegnede bekræfter hermed at overstående informationer er korrekte. Forsikringstager forpligter sig til at informere om væsentlige ændringer. Forsikringen er en del af en rammeordning og træder i kraft når selskabet på baggrund af overstående risikooplysninger har foretaget den endelige risikovurdering og antaget denne.
A103: Hovedforfald 1. januar
A104: Ikraft dato:
A107: Dato og underskrift
