Workbook
Name Obli: [1]Ark1!$A$1:$A$2
Name Obligatorisk_ordning: [1]Ark1!$B$1:$B$2
Name spørgeskema1: #REF!
Name spørgeskema2: #REF!

Sheet Virksomhedsoplysninger
A1: Virksomhedsoplysninger
A3: Dato | C3: =TODAY() -> 43966
A5: Firmanavn
A6: Adresse
A8: Postnr. og by
A9: Tlf. (firma)
A10: Mail
A11: CVR.Nr.
A16: Bemærkninger på tilbuddet
A23: Bemærkninger der ikke skal på tilbuddet

Sheet Begæring
A1: Glasforsikring
A3: Tilbudsdato: | C3: =Virksomhedsoplysninger!C3 -> 43966
A4: Firmanavn | C4: =Virksomhedsoplysninger!C5:F5 -> 0 | J4: Ja
A5: Adresse | C5: =Virksomhedsoplysninger!C6 -> 0 | J5: Nej
A6: Post nr. og by | C6: =Virksomhedsoplysninger!C8 -> 0
A7: Forsikringssted
A8: Adresse
A9: Post nr. og by | K9: Samlet antal lejligheder
A10: Antal boliger: (Hus, rækkehus, lejligheder o. lign.) | J10: =C12*61 -> 0 | K10: =SUM(C12:C15) -> 0
A11: Kvm: | C11: Antal: | J11: =C13*69 -> 0
A12: Maks. 50 | C12: 0 | J12: =C14*73 -> 0
A13: 51-69 | C13: 0 | J13: =C15*90 -> 0
A14: 70-99 | C14: 0 | D14: =SUM(C12:C15) -> 0 | J14: =SUM(J10:J13) -> 0
A15: 100- | C15: 0
A17: Tilvalg til bolig | J17: =IF(I18="Ja",K10*26+J14,IF(I18="Nej",J14,)) -> 0
A18: Sanitetsforsikring | I18: Nej | J18: =IF(I19="Ja",K10*17+J17,IF(I19="Nej",J17,)) -> 0
A19: Keramiske kogeplader incl. Ovnlågeglas | I19: Nej | J19: =IF(I20="Ja",K10*72+J18,IF(I20="Nej",J18,)) -> 0
A20: Udestuer | I20: Nej | J20: =IF(I21="Ja",J19*1.15,IF(I21="Nej",J19,)) -> 0
A21: Altandækning | I21: Nej
T22: =C25*3.21 -> 0
A23: Erhvervsglas | T23: =C26*6.44 -> 0
A24: Risikogruppe: | C24: Kvm: | T24: =C27*7.36 -> 0
A25: Kontor | C25: 0 | T25: =C28*2.3 -> 0
A26: Detail | C26: 0 | U26: =SUM(C25:C28)*0.25 -> 0 | V26: =SUM(C25:C28)*0.19 -> 0
A27: Restaurant | C27: 0 | D27: =SUM(C25:C28) -> 0 | T27: =SUM(T22:T25) -> 0
A28: Engros/Lager | C28: 0
A29: Guldsmed, pelsforretning og bilforhandler - Kan ikke indtegnes her. Kontak Dansk Glasforsikring
T30: =IF(I32="Ja",T27+U26,IF(I32="Nej",T27)) -> 0
A31: Tilvalg til erhverv | T31: =IF(I33="Ja",T30+V26,IF(I33="Nej",T30)) -> 0
A32: Sanitetsforsikring | I32: Nej | W32: =T31+W33 -> 0
A33: Keramiske kogeplader | I33: Nej | T33: =IF(I39="Ja",W32,IF(I39="Nej",T31)) -> 0 | W33: =H40*0.0442 -> 0
A34: Kosmetisk beskadigelse - Ved hærværk er automatisk meddækket dvs. ridser o.lign.
A35: Som ikke kan fjernes, der gælder en selvrisiko på 1.000 kr pr. skade
A36: og en max dækning på 50.000 kr. årligt
J37: Helårlig | K37: =J20+T33 -> 0 | S37: Ja
A38: Ønskes der dækning af alarmstrimler, solfilm dekoration og andet der kan monteres på ruderne? | J38: Halvårlig | K38: =K37*1.05 -> 0 | S38: Nej
I39: Nej | J39: Kvartårlig | K39: =K37*1.08 -> 0
A40: Hvis Ja, hvilken sum ønskes? | H40: 0
J41: Periode
A42: Præmie | J42: 1 årig aftale | K42: =IF(H43="Helårlig",K37,IF(H43="Halvårlig",K38,IF(H43="Kvartårlig",K39))) -> 0
A43: Betaling: | H43: Helårlig | J43: 3 årig aftale | K43: =IF(H43="Helårlig",K37*0.95,IF(H43="Halvårlig",K38*0.95,IF(H43="Kvartårlig",K39*0.95))) -> 0
J44: 5 årig aftale | K44: =IF(H43="Helårlig",K37*0.9,IF(H43="Halvårlig",K38*0.9,IF(H43="Kvartårlig",K39*0.9))) -> 0
A45: Aftale periode: | H45: 3 årig aftale
J46: =IF(H45="1 årig aftale",K42,IF(H45="3 årig aftale",K43,IF(H45="5 årig aftale",K44))) -> 0
A47: Årlig præmie: | G47: =(J46*1.013)*1.0194 -> 0
I48: =J46*1.013 -> 0

Sheet TIlbud
A1: Tilbud - Glasforsikring
A4: Tilbudsdato | D4: =Virksomhedsoplysninger!C3 -> 43966
A5: Firmanavn | D5: =Virksomhedsoplysninger!C5 -> 0
A6: Adresse | D6: =Virksomhedsoplysninger!C6 -> 0
A7: Postnr. og by | D7: =Virksomhedsoplysninger!C8 -> 0
A8: Tlf. | D8: =Virksomhedsoplysninger!C9 -> 0
A9: Email (kontaktperson) | D9: =Virksomhedsoplysninger!C10 -> 0
A10: CVR. nr. | D10: =Virksomhedsoplysninger!C11 -> 0
A11: Forsikringssted
A12: Adresse | F12: =Begæring!C8 -> 0
A13: Postnr. og by | F13: =Begæring!C9 -> 0
A14: Glasforsikring beboelse | I14: =IF(Begæring!D14>0,"Ja","Nej") -> Nej
A15: =IF(I14="Ja","Antal boliger(Hus, rækkehus, lejligheder o. lign.)"," ") | I15: =IF(Begæring!D14>0,Begæring!D14," ")
A16: =IF(I14="Ja","Kvm:"," ") | I16: =IF(I14="Ja","Antal"," ") | T16: ved accept skal samtykkeerklæring altid udfyldes!
A17: =IF(I14="Ja","Maks. 50"," ") | I17: =IF(I14="Ja",Begæring!C12," ") | T17: Ligger i pdf under beregner
A18: =IF(I14="Ja","51-69"," ") | I18: =IF(I14="Ja",Begæring!C13," ")
A19: =IF(I14="Ja","70-99"," ") | I19: =IF(I14="Ja",Begæring!C14," ")
A20: =IF(I14="Ja","100-"," ") | I20: =IF(I14="Ja",Begæring!C15," ")
A22: =IF(I14="Ja","Sanitet"," ") | I22: =IF(I14="Ja",Begæring!I18," ")
A23: =IF(I14="Ja","Keramiske kogeplader"," ") | I23: =IF(I14="Ja",Begæring!I19," ")
A24: =IF(I14="Ja","Udestuer"," ") | I24: =IF(I14="Ja",Begæring!I20," ")
A25: =IF(I14="Ja","Altandækning"," ") | I25: =IF(I14="Ja",Begæring!I21," ")
A27: Glasforsikring erhverv | I27: =IF(Begæring!D27>0,"Ja","Nej") -> Nej
A28: =IF(I27="Ja","Kontor kvm."," ") | I28: =IF(I27="Ja",Begæring!C25," ")
A29: =IF(I27="Ja","Detail kvm."," ") | I29: =IF(I27="Ja",Begæring!C26," ")
A30: =IF(I27="Ja","Restaurant kvm."," ") | I30: =IF(I27="Ja",Begæring!C27," ")
A31: =IF(I27="Ja","Engros/lager kvm."," ") | I31: =IF(I27="Ja",Begæring!C28," ")
A32: =IF(I27="Ja","Tilvalg erhverv"," ")
A33: =IF(I27="Ja","Sanitet"," ") | I33: =IF(I27="Ja",Begæring!I32," ")
A34: =IF(I27="Ja","Keramiske kogeplader"," ") | I34: =IF(I27="Ja",Begæring!I33," ")
A35: =IF(I27="Ja","Alarmstrimler, solfilm, dekoration og andre ting der kan monteres på rude"," ") | I35: =IF(I27="Ja",Begæring!I39," ")
A36: Alarmstrimler, solfilm, dekoration og andre ting der kan monteres på rude
A37: Dækningssum | I37: =Begæring!H40 -> 0
A38: =IF(Begæring!D27>0,"Kosmetisk beskadigelse - Ved hærværk er automatisk meddækket dvs. ridser o.lign."," ")
A39: =IF(Begæring!D27>0,"Som ikke kan fjernes, der gælder en selvrisiko på 1.000 kr pr. skade"," ")
A40: =IF(Begæring!D27>0,"og en max dækning på 50.000 kr. årligt"," ")
A41: Betaling: | I41: =Begæring!H43 -> Helårlig
A42: Aftale periode: | I42: 3 årig
A44: Selvrisiko | I44: 0
A45: Årlig præmie indeks 2020 | I45: =Begæring!G47 -> 0
A51: Opsigelse af nuværende forsikring
A52: Ønskes nuværende foriskring opsagt af Din Forsikringsagent?(sæt kryds)
A53: Nuværende selskab:
A54: Police nr.
A55: Hovedforfald
A56: Erklæring:
A65: Bemærkninger til tilbuddet:
A66: =Virksomhedsoplysninger!A17 -> 0
A70: Accept af tilbud
A71: Hovedforfald 1. Januar
A72: Ikraft dato:
A76: Dato og underskrift
