Workbook
Name _1_10: Retshjælp!$J$27:$M$27
Name _100_150: Retshjælp!$J$31:$M$31
Name _11_20: Retshjælp!$J$28:$M$28
Name _150_200: Retshjælp!$J$32:$M$32
Name _200_250: Retshjælp!$J$33:$M$33
Name _21_50: Retshjælp!$J$29:$M$29
Name _51_99: Retshjælp!$J$30:$M$30
Name _J_29: Retshjælp!$J$27
Name Antal_ansatte: Retshjælp!$J$27:$M$33
Name Risikogruppe_1: Retshjælp!$J$27:$J$33
Name Risikogruppe_2: Retshjælp!$K$27:$K$33
Name Risikogruppe_3: Retshjælp!$L$27:$L$33
Name Risikogruppe_4: Retshjælp!$M$27:$M$33

Sheet Virksomhedsoplysninger
A1: Virksomhedsoplysninger
A3: Dato | C3: =TODAY() -> 43966
A5: Firmanavn
A6: Adresse
A8: Postnr. og by
A9: Tlf. (firma)
A10: Mail
A11: Cvr.nr.
A12: Medforsik. Virksomhed. Navn, Cvr.nr.
A18: Bemærkninger på tilbuddet
A22: Bemærkninger der ikke skal på tilbuddet.

Sheet Retshjælp
A1: Retshjælp
A3: Tilbudsdato | B3: =Virksomhedsoplysninger!C3 -> 43966
A4: Firmanavn | B4: =Virksomhedsoplysninger!C5 -> 0
A5: Adresse | B5: =Virksomhedsoplysninger!C6 -> 0
A6: Postnr. og by | B6: =Virksomhedsoplysninger!C8 -> 0
A7: Tlf. | B7: =Virksomhedsoplysninger!C9 -> 0
A8: Email | B8: =Virksomhedsoplysninger!C10 -> 0
A9: CVR.nr. | B9: =Virksomhedsoplysninger!C11 -> 0
A10: =Virksomhedsoplysninger!A12 -> Medforsik. Virksomhed. Navn, Cvr.nr. | C10: =Virksomhedsoplysninger!C12 -> 0 | L10: Anfør venligst
L11: 0
L12: 1
A13: Risikogruppe | B13: Risikogruppe 3 - Håndværker/entreprenør, montør, vognmand/chauffør og personlig pleje/behandling | L13: 2
A14: Antal ansatte: | L14: Mere end 2
A15: Forsikringssum:
A16: Max. sum pr. sag: | E16: 250000
A17: Max. sum pr. år: | E17: 500000
A18: Max sum pr. sag må ikke overstige 3x max sum pr. år. - Dog gerne 150.000 pr. sag og 500.000 pr. år.
A19: Dækningsområde: | C19: Danmark | N19: Vælg risikogruppe
A20: Skal forsikringen udvides til at dække tvister, hvor begrundelsen til retssagen er 3 år inden ikraftdato? | M20: =VLOOKUP(B13,N19:P23,3,FALSE) -> 2448 | N20: Risikogruppe 1 - kontor/administration | P20: =VLOOKUP(B14,R20:V28,2) -> 1017 | R20: Number of employees | S20: Risikogruppe 1 | T20: Risikogruppe 2 | U20: Risikogruppe 3 | V20: Risikogruppe 4
E21: Nej | M21: =M20*M26 -> 367.2 | N21: Risikogruppe 2 - Handel og produktion | P21: =VLOOKUP(B14,R20:V28,3) -> 1322 | R21: 0 | S21: 1017 | T21: 1322 | U21: 2448 | V21: 3060
M22: =M20*O32 -> 0 | N22: Risikogruppe 3 - Håndværker/entreprenør, montør, vognmand/chauffør og personlig pleje/behandling | P22: =VLOOKUP(B14,R20:V28,4) -> 2448 | R22: 11 | S22: 1322 | T22: 1719 | U22: 3183 | V22: 3978
A23: Risikooplysninger/kriterier for indtegning: | M23: =M20+M21+M22 -> 2815.2 | N23: Risikogruppe 4 - Professionelle rådgivere - Fx advokat, revisor, arkitekter | P23: =VLOOKUP(B14,R20:V28,5) -> 3060 | R23: 21 | S23: 1785 | T23: 2320 | U23: 4297 | V23: 5371
A24: Der må maksimalt have været 1 retstvist indenfor de sidste 3 år | R24: 51 | S24: 2409 | T24: 3132 | U24: 5800 | V24: 7251
A25: Virksomheden skal være beliggende i Danmark samt have en fast adresse i Danmark. | R25: 100 | S25: 3253 | T25: 4228 | U25: 7831 | V25: 9788
A26: Hvis der har været mere end 1 retstvist, skal First Marine kontaktes for godkendense. | M26: =VLOOKUP(E16,N26:O28,2) -> 0.15 | N26: 150000 | O26: 0 | P26: 500000 | R26: 150 | S26: 4391 | T26: 5708 | U26: 10571 | V26: 13214
E27: =ROUND(M23,0) -> 2815 | N27: 250000 | O27: 0.15 | P27: 750000 | R27: 200 | S27: 5928 | T27: 7706 | U27: 14271 | V27: 17839
E28: =E27*M34 -> 0 | N28: 500000 | O28: 0.25 | P28: 1500000 | R28: 300 | S28: x | T28: x | U28: x | V28: x
A29: 150000 | B29: 500000 | E29: =E27*M35 -> 0
A30: 250000 | B30: 750000 | E30: =SUM(E27:E29) -> 2815 | N30: =E16*3 -> 750000 | O30: =E17/E16 -> 2
A31: 500000 | B31: 1500000 | N31: =IF(N30<=500000,500000,IF(N30>500001,N30)) -> 750000 | O31: =N31/E16 -> 3
O32: =IF(O30=3,0.1,IF(O30>3.4,100,IF(O30<3.4,0))) -> 0
A34: Selvrisiko - 10% af erstatningsbeløb, minimum DKK 5.000 pr. skade/instans | M34: =IF(C19="Danmark",0,IF(C19="Danmark, Sverige, Norge og Finland ",0.2,"")) -> 0 | N34: Geografisk område
A35: Årlig præmie: | B35: =E38*1.0192 -> 2934.1754 | M35: =IF(E21="Ja",0.3,IF(E21="Nej",0,)) -> 0 | N35: Tvister
E36: =IF(E30>45000,"Max sum pr. år må ikke overstige 3x max pr. sag.",IF(E30<45000,E30,)) -> 2815
E37: =E36 -> 2815
E38: =E30*1.0227 -> 2878.9005
A41: Risikogruppe 1 - Kontor/administration
A42: Risikogruppe 2 - Handel og produktion
A43: Risikogruppe 3 - Håndværker/entreprenør, montør, vognmand/chauffør og personlig pleje/behandling
A44: Risikogruppe 4 - Professionelle rådgivere - Fx advokat, revisor, arkitekter
...

Sheet Tilbud
A1: Tilbud - Retshjælpsforsikring
A3: Tilbudsdato | C3: =Virksomhedsoplysninger!C3 -> 43966 | F3: Medforsikret virksomhed:
A4: Firmanavn | C4: =Virksomhedsoplysninger!C5 -> 0 | F4: Navn, Cvr.nr. | H4: =Virksomhedsoplysninger!C12 -> 0
A5: Adresse | C5: =Virksomhedsoplysninger!C6 -> 0
A6: Postnr. og by | C6: =Virksomhedsoplysninger!C8 -> 0
A7: Tlf. | C7: =Virksomhedsoplysninger!C9 -> 0
A8: Email | C8: =Virksomhedsoplysninger!C10 -> 0
A9: CVR. nr. | C9: =Virksomhedsoplysninger!C11 -> 0
A11: Risikogruppe | C11: =Retshjælp!B13 -> Risikogruppe 3 - Håndværker/entreprenør, montør, vognmand/chauffør og personlig pleje/behandling
A12: Antal ansatte | I12: =Retshjælp!B14 -> 0
A13: Max. sum pr. sag | I13: =Retshjælp!E16 -> 250000
A14: Max. sum pr. år | I14: =Retshjælp!E17 -> 500000
A15: Dækningsområde | I15: =Retshjælp!C19 -> Danmark
A16: Udvidelse af forsikring: | I16: =Retshjælp!E21 -> Nej
A17: =IF(Retshjælp!E21="Ja",Retshjælp!A54," ")
A21: Årlig præmie indeks 2020: | I21: =Retshjælp!B35 -> 2934.1754
A22: Selvrisiko - 10% af erstatningsbeløb, minimum DKK 5.000 pr. skade/instans
A23: Forudsætninger for tegning af forsikring
A24: Det er en forudsætning for tegning af forsikringen, at der maks har været en retstvist de sidste 3 år.
A26: Erklæring:
A33: Bemærkninger til tilbuddet:
A34: =Virksomhedsoplysninger!A19
A38: Accept af tilbud
A39: Hovedforfald 1. Januar
A40: Ikraft dato:
A44: Dato og underskrift

Sheet Betingelser
A1: Betingelser

Sheet Produktinfo
A1: Produktinfo
