Workbook

Sheet Virksomhedsoplysninger
A1: Virksomhedsoplysninger
A3: Dato | C3: =TODAY() -> 43966
A5: Firmanavn
A6: Adresse
A8: Postnr. og by
A9: Cvr.nr.
A10: Tlf. (firma)
A11: Mail
A12: Medforsik. Virksomhed. Navn, Cvr.nr.
A18: Bemærkninger på tilbuddet
A22: Bemærkninger der ikke skal på tilbuddet.

Sheet Retshjælp ejendomme
A1: Retshjælp Ejendomme, erhvervs- og boligudlejening samt A/B - E/F
A3: Tilbudsdato | B3: =Virksomhedsoplysninger!C3 -> 43966
A4: Firmanavn | B4: =Virksomhedsoplysninger!C5 -> 0
A5: Adresse | B5: =Virksomhedsoplysninger!C6 -> 0
A6: Postnr. og by | B6: =Virksomhedsoplysninger!C8 -> 0
A7: Tlf. | B7: =Virksomhedsoplysninger!C10 -> 0
A8: Email | B8: =Virksomhedsoplysninger!C11 -> 0
A9: CVR.nr. | B9: =Virksomhedsoplysninger!C9 -> 0
A10: =Virksomhedsoplysninger!A12 -> Medforsik. Virksomhed. Navn, Cvr.nr. | C10: =Virksomhedsoplysninger!C12 | L10: Anfør venligst
L11: 0
A12: Antal lejemål/lejligheder: | D12: 0 | L12: 1
L13: 2
A14: Forsikringssum: | L14: Mere end 2
A15: Max. sum pr. sag: | E15: 500000 | O15: Provision | P15: 0.2
A16: Max. sum pr. år: | E16: 750000
A18: Dækningsområde: | C18: Danmark
A19: Skal forsikringen udvides til at dække tvister, hvor begrundelsen til retssagen er 3 år inden ikraftdato?
E20: Ja | M20: =D12 -> 0
M21: 75 | N21: =IF(M20<=75,M20,IF(M20>75,75)) -> 0 | O21: =R21/(1-P15) -> 25.425 | P21: =N21*O21 -> 0 | R21: 20.34
M22: =M20-M21 -> -75 | N22: =IF(M22<1,0,IF(M22>=1,M22)) -> 0 | O22: =R22/(1-P15) -> 19.075 | P22: =O22*N22 -> 0 | R22: 15.26
P23: =P21+P22 -> 0
P24: =IF(P23>R25,P23,IF(P23<=R25,R25)) -> 812.5 | Q24: minimum | R24: 650
N25: Sum sag | P25: =P24*M30 -> 203.125 | Q25: brutto | R25: =R24/(1-P15) -> 812.5
N26: sum år | P26: =P24*O36 -> 0
P27: =P24+P25+P26 -> 1015.625
M30: =VLOOKUP(E15,N30:O32,2) -> 0.25 | N30: 150000 | O30: 0 | P30: 500000
N31: 250000 | O31: 0.15 | P31: 750000
N32: 500000 | O32: 0.25 | P32: 1500000
A34: Risikooplysninger/kriterier for indtegning: | N34: =E15*3 -> 1500000 | O34: =E16/E15 -> 1.5
A35: Der må maksimalt have været en retstvist indenfor de sidste 3 år | N35: =IF(N34<=500000,500000,IF(N34>500001,N34)) -> 1500000 | O35: =N35/E15 -> 3
A36: Virksomheden skal være beliggende i Danmark samt have en fast adresse i Danmark. | O36: =IF(O34=3,0.1,IF(O34>3.4,100,IF(O34<3.4,0))) -> 0
A37: Hvis der har været mere end en retstvist, skal First Marine kontaktes for godkendense.
A39: Årlig præmie: | E39: =E59*1.0192 -> 1376.7172
E40: =IF(C18="Danmark, Sverige, Norge og Finland",E42*0.2,"0") -> 0
E41: =IF(E20="Ja",E42*0.3,"0") -> 304.8
E42: =ROUND(P27,0) -> 1016
A43: Danmark | D43: Ja | E43: =SUM(E40:E42) -> 1320.8
A44: Danmark, Sverige, Norge og Finland | D44: Nej
A49: Max. Sum pr sag | B49: Max sum pr år
A50: 150000 | B50: 500000
...

Sheet Tilbud
A1: ='Retshjælp ejendomme'!A1:G1 -> Retshjælp Ejendomme, erhvervs- og boligudlejening samt A/B - E/F
A3: Tilbudsdato | C3: =Virksomhedsoplysninger!C3 -> 43966 | F3: Medforsikret virksomhed:
A4: Firmanavn | C4: =Virksomhedsoplysninger!C5 -> 0 | F4: Navn, Cvr.nr. | H4: =Virksomhedsoplysninger!C12
A5: Adresse | C5: =Virksomhedsoplysninger!C6 -> 0
A6: Postnr. og by | C6: =Virksomhedsoplysninger!C8 -> 0
A7: Tlf. | C7: =Virksomhedsoplysninger!C10 -> 0
A8: Email | C8: =Virksomhedsoplysninger!C11 -> 0
A9: CVR. nr. | C9: =Virksomhedsoplysninger!C9 -> 0
A11: Antal lejemål | I11: ='Retshjælp ejendomme'!D12 -> 0
A12: Max sum pr. sag | I12: ='Retshjælp ejendomme'!E15 -> 500000
A13: Max sum pr. år | I13: ='Retshjælp ejendomme'!E16 -> 750000
A14: Dækningsområde | F14: ='Retshjælp ejendomme'!C18 -> Danmark
A15: Udvidelse af forsikring | I15: ='Retshjælp ejendomme'!E20 -> Ja
A16: =IF(I15="Ja",'Retshjælp ejendomme'!A54," ") -> Uanset forsikringsbetingelserne, er denne forsikring udvidet til at dække tvister, hvor årsagen til retssagen er indtruffet inden nytegningsdato for denne police. Dog gælder følgende undtagelser: 1. Alle tvister, hvor begrundelsen for retssagen sker 3 år eller mere før nytegningsdato, er undtaget 2. Alle potentielle eller faktiske krav, hvor de omstændigheder, der giver anledning til sådanne krav, var kendt for den forsikrede forud for nytegningsdatoen, er undtaget.
A20: Årlig præmie: | I20: ='Retshjælp ejendomme'!E39 -> 1376.7172
A21: Selvrisiko - 10% af erstatningsbeløb, minimum DKK 5.000 pr. skade/instans
A22: Indeks 2020
A23: Forudsætninger for tegning af forsikring
A24: Det er en forudsætning for tegning af forsikringen, at der maks har været en retstvist de sidste 3 år.
A26: Erklæring:
A33: Bemærkninger til tilbuddet:
A34: =Virksomhedsoplysninger!A19
A38: Accept af tilbud
A39: Hovedforfald 1. Januar
A40: Ikraft dato:
A44: Dato og underskrift

Sheet Produktark
A1: Produktark
A3: Retshjælp
A4: Retshjælpsforsikring dækker tvister opstået generelt i forbindelse med udøvelse af virksomheden, hvad enten du er sagsøger eller sagsøgte.
A5: Der er som virksomhed altid en risiko for at blive uenig med en leverandør eller kunde. Når parterne ikke kan opnå enighed ender en del uoverensstemmelser i retten.
A6: En retssag kan hurtigt blive en dy affære, og derfor er det en god ide, at have en retshjælpsforsikring.
A7: Typiske tvister:
A8: Mangler ved varen der er leveret
A9: Mangler ved udført arbejde
A10: Tvister i erhvervslejeforhold
A12: Typiske udgifter:
A13: Sagsomkostninger egne og pålagte, fastsat af domstol eller voldgiftsret
A14: Øvrige sagsomkostninger, hvis de er afholdt med rimelig grund
A15: Omkostninger påtaget ved forlig.

Sheet Betingelser
A1: Betingelser
