Workbook
Name spørgeskema1: #REF!
Name spørgeskema2: #REF!

Sheet Virksomhedsoplysninger
A1: Virksomhedsoplysninger
A3: Dato | C3: =TODAY() -> 43966
A5: Firmanavn
A6: Adresse
A8: Postnr. og by
A9: Cvr.nr.
A10: Tlf(firma)
A11: Mail
A12: Medforsik. Virksomhed, navn, cvr.nr.
A15: Bemærkninger på tilbuddet
A22: Bemærkninger der ikke skal på tilbuddet
A23: VIGTIGT! Ved sum på 10.000.000 eller derover skal accept altid underskrives af kunden, pga risikooplysninger!

Sheet Begæring
A1: Netbanksforsikring
A2: Tilbudsdato | D2: =Virksomhedsoplysninger!C3 -> 43966
A3: Firmanavn | D3: =Virksomhedsoplysninger!C5 -> 0
A4: Adresse | D4: =Virksomhedsoplysninger!C6 -> 0
A5: Postnr. og by | D5: =Virksomhedsoplysninger!C8 -> 0
A6: Tlf. | D6: =Virksomhedsoplysninger!C10 -> 0
A7: Email (kontaktperson) | D7: =Virksomhedsoplysninger!C11 -> 0
A8: CVR.Nr. | D8: =Virksomhedsoplysninger!C9 -> 0
A9: Medforsik. Virksomhed. Navn, cvr.nr. | D9: =Virksomhedsoplysninger!C12
X10: 50000000
X11: 75000000
A12: Antal ansatte | I12: 0-25 | X12: 100000000
A13: Hvilken forsikringssum ønskes? | I13: 5000000 | X13: 150000000
A15: 0-25 | B15: 26-49 | C15: 50-99 | D15: 100-149 | O15: 0-25
A16: =VLOOKUP(I13,O16:Q23,3) -> 1711 | B16: =VLOOKUP(I13,O26:Q31,3) -> 2065 | C16: =VLOOKUP(I13,O34:Q38,3) -> 2891 | D16: =VLOOKUP(I13,O41:Q45,3) -> 4071 | O16: 1000000 | P16: 5000 | Q16: 531
A17: Koncernens omsætning op til: | I17: 50000000 | O17: 3000000 | P17: 5000 | Q17: 767 | S17: 0-25
O18: 5000000 | P18: 5000 | Q18: 1711 | S18: 26-49
A19: Årlig præmie: | I19: ='Ark1'!H48 -> 1711 | O19: 10000000 | P19: 5000 | Q19: 3304 | S19: 50-99
A20: Det er en forudsætning for tegning af forsikringen at der kan svares "Ja" til nedenstående.
A21: Kan virksomheden bekræfte, at der ikke er internetsalg med betaling?
A22: Virksomheden anvender bruger-ID samt personligt kodeord i sit netværk?
A23: Virksomheden tjekker for sikkerhedsopdateringer regelmæssigt, samt benytter sig af firewalls? | O23: 25000000 | P23: 5000 | Q23: 9440 | S23: 100-149
A25: =IF(I13>5500000,"Maksimale rådighedsbeløb på én konti:"," ") | O25: 26-49
A26: =IF(I13>5500000,"Maksimale kreditbeløb til rådighed på én konti:"," ") | O26: 1000000 | P26: 5000 | Q26: 767
A27: =IF(I13>5500000,"Er der grænser for beløbsstørrelser ved netbanksoverførsler?"," ") | O27: 3000000 | P27: 5000 | Q27: 1003
A28: =IF(I13>5500000,"Antal netbankskonti:"," ") | O28: 5000000 | P28: 5000 | Q28: 2065
A29: =IF(I13>5500000,"Virksomheden har kun netbankskonti i Danmark?:"," ") | O29: 10000000 | P29: 5000 | Q29: 4130
A30: =IF(I13>5500000,"Virksomheder tilbagekalder passwords automatisk når ansættelsesforhold afsluttes?"," ")
O31: 25000000 | P31: 5000 | Q31: 10266
A32: =IF(I13>5500000,"Ændres standardinstillinger i sikkerhedsprogrammer for at opnå sikker konfiguration?"," ")
O33: 50-99
A34: =IF(I13>5500000,"Virksomheden gennemgår IT sikkerhedsniveauet mindt én gang om året?"," ") | O34: 1000000 | P34: 5000 | Q34: 1121
O35: 3000000 | P35: 5000 | Q35: 1357
O36: 5000000 | P36: 5000 | Q36: 2891
A37: Udvidelse/Dækningsområde | O37: 10000000 | P37: 5000 | Q37: 5310
A38: Forsikringen er uden merpræmie, udvidet til at dække netbankhacking via tredjemands it-systemer, som har lovlig adgang til sikredes it systemer. | O38: 25000000 | P38: 5000 | Q38: 11446
I40: 1000000 | O40: 100-149
I41: 3000000 | O41: 1000000 | P41: 5000 | Q41: 1534
I42: 5000000 | O42: 3000000 | P42: 5000 | Q42: 1770
B43: 100-149 | I43: 10000000 | O43: 5000000 | P43: 5000 | Q43: 4071
I44: 25000000 | O44: 10000000 | P44: 5000 | Q44: 6490
O45: 25000000 | P45: 5000 | Q45: 12626
A47: Forsikring dækker netbankkonti i danske pengeinstitutter i Europa og i danske filialer af udenlandske pengeinstitutter.
A49: 0-25
A50: 26-49
A55: 0-25
A56: 26-49
A57: 50-99

Sheet Ark1
A1: Sum | B1: Ansatte | C1: Omsætning | D1: Præmie | F1: Sum | G1: Ansatte | H1: Omsætning | I1: Præmie | K1: Sum | L1: Ansatte | M1: Omsætning | N1: Præmie | P1: Sum | Q1: Ansatte | R1: Omsætning | S1: Præmie
A2: 1000000 | B2: 0-25 | C2: 50000000 | D2: 531 | F2: 1000000 | G2: 26-49 | H2: 50000000 | I2: 767 | K2: 1000000 | L2: 50-99 | M2: 50000000 | N2: 1121 | P2: 1000000 | Q2: 100-149 | R2: 50000000 | S2: 1534
B3: 0-25 | C3: 75000000 | D3: 767 | G3: 26-49 | H3: 75000000 | I3: 767 | L3: 50-99 | M3: 75000000 | N3: 1121 | Q3: 100-149 | R3: 75000000 | S3: 1534
B4: 0-25 | C4: 100000000 | D4: 1121 | G4: 26-49 | H4: 100000000 | I4: 1121 | L4: 50-99 | M4: 100000000 | N4: 1121 | Q4: 100-149 | R4: 100000000 | S4: 1534
B5: 0-25 | C5: 150000000 | D5: 1534 | G5: 26-49 | H5: 150000000 | I5: 1534 | L5: 50-99 | M5: 150000000 | N5: 1534 | Q5: 100-149 | R5: 150000000 | S5: 1534
A6: 3000000 | B6: 0-25 | C6: 50000000 | D6: 767 | F6: 3000000 | G6: 26-49 | H6: 50000000 | I6: 1003 | K6: 3000000 | L6: 50-99 | M6: 50000000 | N6: 1357 | P6: 3000000 | Q6: 100-149 | R6: 50000000 | S6: 1770
B7: 0-25 | C7: 75000000 | D7: 1003 | G7: 26-49 | H7: 75000000 | I7: 1003 | L7: 50-99 | M7: 75000000 | N7: 1357 | Q7: 100-149 | R7: 75000000 | S7: 1770
B8: 0-25 | C8: 100000000 | D8: 1357 | G8: 26-49 | H8: 100000000 | I8: 1357 | L8: 50-99 | M8: 100000000 | N8: 1357 | Q8: 100-149 | R8: 100000000 | S8: 1770
B9: 0-25 | C9: 150000000 | D9: 1770 | G9: 26-49 | H9: 150000000 | I9: 1770 | L9: 50-99 | M9: 150000000 | N9: 1770 | Q9: 100-149 | R9: 150000000 | S9: 1770
A10: 5000000 | B10: 0-25 | C10: 50000000 | D10: 1711 | F10: 5000000 | G10: 26-49 | H10: 50000000 | I10: 2065 | K10: 5000000 | L10: 50-99 | M10: 50000000 | N10: 2891 | P10: 5000000 | Q10: 100-149 | R10: 50000000 | S10: 4071
B11: 0-25 | C11: 75000000 | D11: 2065 | G11: 26-49 | H11: 75000000 | I11: 2065 | L11: 50-99 | M11: 75000000 | N11: 2891 | Q11: 100-149 | R11: 75000000 | S11: 4071
B12: 0-25 | C12: 100000000 | D12: 2891 | G12: 26-49 | H12: 100000000 | I12: 2891 | L12: 50-99 | M12: 100000000 | N12: 2891 | Q12: 100-149 | R12: 100000000 | S12: 4071
B13: 0-25 | C13: 150000000 | D13: 4071 | G13: 26-49 | H13: 150000000 | I13: 4071 | L13: 50-99 | M13: 150000000 | N13: 4071 | Q13: 100-149 | R13: 150000000 | S13: 4071
A14: 10000000 | B14: 0-25 | C14: 50000000 | D14: 3304 | F14: 10000000 | G14: 26-49 | H14: 50000000 | I14: 4130 | K14: 10000000 | L14: 50-99 | M14: 50000000 | N14: 5310 | P14: 10000000 | Q14: 100-149 | R14: 50000000 | S14: 6490
B15: 0-25 | C15: 75000000 | D15: 4130 | G15: 26-49 | H15: 75000000 | I15: 4130 | L15: 50-99 | M15: 75000000 | N15: 5310 | Q15: 100-149 | R15: 75000000 | S15: 6490
B16: 0-25 | C16: 100000000 | D16: 5310 | G16: 26-49 | H16: 100000000 | I16: 5310 | L16: 50-99 | M16: 100000000 | N16: 5310 | Q16: 100-149 | R16: 100000000 | S16: 6490
B17: 0-25 | C17: 150000000 | D17: 6490 | G17: 26-49 | H17: 150000000 | I17: 6490 | L17: 50-99 | M17: 150000000 | N17: 6490 | Q17: 100-149 | R17: 150000000 | S17: 6490
A18: 25000000 | B18: 0-25 | C18: 50000000 | D18: 9440 | F18: 25000000 | G18: 26-49 | H18: 50000000 | I18: 10266 | K18: 25000000 | L18: 50-99 | M18: 50000000 | N18: 11446 | P18: 25000000 | Q18: 100-149 | R18: 50000000 | S18: 12626
B19: 0-25 | C19: 75000000 | D19: 10266 | G19: 26-49 | H19: 75000000 | I19: 10266 | L19: 50-99 | M19: 75000000 | N19: 11446 | Q19: 100-149 | R19: 75000000 | S19: 12626
B20: 0-25 | C20: 100000000 | D20: 11446 | G20: 26-49 | H20: 100000000 | I20: 11446 | L20: 50-99 | M20: 100000000 | N20: 11446 | Q20: 100-149 | R20: 100000000 | S20: 12626
B21: 0-25 | C21: 150000000 | D21: 12626 | G21: 26-49 | H21: 150000000 | I21: 12626 | L21: 50-99 | M21: 150000000 | N21: 12626 | Q21: 100-149 | R21: 150000000 | S21: 12626
A23: Sum 1 mio | C23: =VLOOKUP(A24,C2:D5,2) -> 531 | H23: =VLOOKUP(A24,H2:I5,2) -> 767 | M23: =VLOOKUP(A24,M2:N5,2) -> 1121 | R23: =VLOOKUP(A24,R2:S5,2) -> 1534
A24: =Begæring!I17 -> 50000000
A25: =IF(Begæring!I12="0-25",'Ark1'!C23,IF(Begæring!I12="26-49",'Ark1'!H23,IF(Begæring!I12="50-99",'Ark1'!M23,IF(Begæring!I12="100-149",R23)))) -> 531
A27: Sum 3 mio | C27: =VLOOKUP(A24,C6:D9,2) -> 767 | H27: =VLOOKUP(A24,H6:I9,2) -> 1003 | M27: =VLOOKUP(A24,M6:N9,2) -> 1357 | R27: =VLOOKUP(A24,R6:S9,2) -> 1770
A29: =IF(Begæring!I12="0-25",'Ark1'!C27,IF(Begæring!I12="26-49",'Ark1'!H27,IF(Begæring!I12="50-99",'Ark1'!M27,IF(Begæring!I12="100-149",R27)))) -> 767
A31: Sum 5 mio | C31: =VLOOKUP(A24,C10:D13,2) -> 1711 | H31: =VLOOKUP(A24,H10:I13,2) -> 2065 | M31: =VLOOKUP(A24,M10:N13,2) -> 2891 | R31: =VLOOKUP(A24,R10:S13,2) -> 4071
A33: =IF(Begæring!I12="0-25",'Ark1'!C31,IF(Begæring!I12="26-49",'Ark1'!H31,IF(Begæring!I12="50-99",'Ark1'!M31,IF(Begæring!I12="100-149",R31)))) -> 1711
A35: Sum 10 mio | C35: =VLOOKUP(A24,C14:D17,2) -> 3304 | H35: =VLOOKUP(A24,H14:I17,2) -> 4130 | M35: =VLOOKUP(A24,M14:N17,2) -> 5310 | R35: =VLOOKUP(A24,R14:S17,2) -> 6490
A37: =IF(Begæring!I12="0-25",'Ark1'!C35,IF(Begæring!I12="26-49",'Ark1'!H35,IF(Begæring!I12="50-99",'Ark1'!M35,IF(Begæring!I12="100-149",R35)))) -> 3304
A39: Sum 25 mio. | C39: =VLOOKUP(A24,C18:D21,2) -> 9440 | H39: =VLOOKUP(A24,H18:I21,2) -> 10266 | M39: =VLOOKUP(A24,M18:N21,2) -> 11446 | R39: =VLOOKUP(A24,R18:S21,2) -> 12626
A41: =IF(Begæring!I12="0-25",'Ark1'!C39,IF(Begæring!I12="26-49",'Ark1'!H39,IF(Begæring!I12="50-99",'Ark1'!M39,IF(Begæring!I12="100-149",R39)))) -> 9440
D44: 1000000 | E44: =A25 -> 531
D45: 3000000 | E45: =A29 -> 767
D46: 5000000 | E46: =A33 -> 1711
D47: 10000000 | E47: =A37 -> 3304
D48: 25000000 | E48: =A41 -> 9440 | H48: =VLOOKUP(Begæring!I13,'Ark1'!D44:E48,2) -> 1711

Sheet TIlbud
A1: Tilbud - Netbanksforsikring
A3: Tilbudsdato | D3: =Virksomhedsoplysninger!C3 -> 43966 | G3: Medforsikret virksomhed
A4: Firmanavn | D4: =Virksomhedsoplysninger!C5 -> 0 | G4: Navn, Cvr. nr.
A5: Adresse | D5: =Virksomhedsoplysninger!C6 -> 0 | G5: =Virksomhedsoplysninger!C12
A6: Postnr. og by | D6: =Virksomhedsoplysninger!C8 -> 0
A7: Tlf. | D7: =Virksomhedsoplysninger!C10 -> 0
A8: Email (kontaktperson) | D8: =Virksomhedsoplysninger!C11 -> 0
A9: CVR. nr. | D9: =Virksomhedsoplysninger!C9 -> 0
A11: Koncernes omsætning op til: | I11: =Begæring!I17 -> 50000000
A12: Antal ansatte | I12: =Begæring!I12 -> 0-25
A13: Forsikringssum: | I13: =Begæring!I13 -> 5000000
A15: Årlig præmie indeks 2020: | I15: =Begæring!I19 -> 1711
A16: Selvrisiko: | I16: 5000
A18: Forsikringen er uden merpræmie, udvidet til at dække netbankhacking via tredjemands it-systemer, som har lovlig adgang til sikredes it systemer.
A20: Risikooplysninger.
A21: Kan virksomheden bekræfte, at der ikke er internetsalg med betaling? | I21: =IF(J21=TRUE,"Ja",IF(J21=FALSE,"Nej")) -> Ja | J21: TRUE
A22: Virksomheden anvender bruger-ID samt personligt kodeord i sit netværk? | I22: =IF(J22=TRUE,"Ja",IF(J22=FALSE,"Nej")) -> Ja | J22: TRUE
A23: =Begæring!A23 -> Virksomheden tjekker for sikkerhedsopdateringer regelmæssigt, samt benytter sig af firewalls? | J23: TRUE
I24: =IF(J24=TRUE,"Ja",IF(J24=FALSE,"Nej",)) -> Ja | J24: TRUE | L24: FALSE | M24: =IF(L24=TRUE,"Nej",IF(L24=FALSE," "))
A25: =IF(I13>5500000,"Maksimale rådighedsbeløb på én konti:"," ") | I25: =Begæring!I25
A26: =IF(I13>5500000,"Maksimale kreditbeløb til rådighed på én konti:"," ") | I26: =Begæring!I26 | L26: FALSE | M26: =IF(L26=TRUE,"Nej",IF(L26=FALSE," "))
A27: =IF(I13>5500000,"Er der grænser for beløbsstørrelser ved netbanksoverførsler?"," ") | I27: =IF(J27=TRUE,"Ja",IF(J27=FALSE,M24)) | J27: FALSE
A28: =IF(I13>5500000,"Antal netbankskonti:"," ") | I28: =Begæring!I28 | L28: FALSE | M28: =IF(L28=TRUE,"Nej",IF(L28=FALSE," "))
A29: =IF(I13>5500000,"Virksomheden har kun netbankskonti i Danmark?:"," ") | I29: =IF(J29=TRUE,"Ja",IF(J29=FALSE,M26)) | J29: FALSE
A30: =IF(I13>5500000,"Virksomheder tilbagekalder passwords automatisk når ansættelsesforhold afsluttes?"," ") | L30: FALSE | M30: =IF(L30=TRUE,"Nej",IF(L30=FALSE," "))
I31: =IF(J31=TRUE,"Ja",IF(J31=FALSE,M28)) | J31: FALSE | L31: FALSE | M31: =IF(L31=TRUE,"Nej",IF(L31=FALSE," "))
A32: =IF(I13>5500000,"Ændres standardinstillinger i sikkerhedsprogrammer for at opnå sikker konfiguration?"," ")
I33: =IF(J33=TRUE,"Ja",IF(J33=FALSE,M30)) | J33: FALSE
A34: =IF(I13>5500000,"Virksomheden gennemgår IT sikkerhedsniveauet mindt én gang om året?"," ") | I34: =IF(J34=TRUE,"Ja",IF(J34=FALSE,M31)) | J34: FALSE
A36: Opsigelse af nuværende forsikring
A37: Skal Din Forsikringsagent opsige nuværende forsikringer?
A38: Nuværende selskab | E38: Police nr | H38: Hovedforfald
A39: Evt. bemærkninger
A40: =Virksomhedsoplysninger!A16
A45: Accept af tilbud:
A46: Undertegnede bekræfter hermed at overstående informationer er korrekte, og der de seneste 3 år ikke har været udbetalinger fra en netbankforsikring. Forsikringstager forpligter sig til at informere om væsentlige ændringer. Forsikringen er en del af en rammeordning og træder i kraft når forsikringsselskabet på baggrund af overstående risikooplysninger har foretaget den endelige risikovurdering og antaget denne.
A51: Hovedforfald 1. Januar
A52: Ikraft dato:
A55: Dato og underskrift

Sheet Produktinfo
A1: Produktinfo

Sheet Betingelser
A1: Betingelser

Sheet Administration
